BEGIN:VCALENDAR
VERSION:2.0
PRODID:-//MLT PTO - ECPv6.15.20//NONSGML v1.0//EN
CALSCALE:GREGORIAN
METHOD:PUBLISH
X-ORIGINAL-URL:http://mltpto.com
X-WR-CALDESC:Events for MLT PTO
REFRESH-INTERVAL;VALUE=DURATION:PT1H
X-Robots-Tag:noindex
X-PUBLISHED-TTL:PT1H
BEGIN:VTIMEZONE
TZID:UTC
BEGIN:STANDARD
TZOFFSETFROM:+0000
TZOFFSETTO:+0000
TZNAME:UTC
DTSTART:20230101T000000
END:STANDARD
END:VTIMEZONE
BEGIN:VEVENT
DTSTART;VALUE=DATE:20240101
DTEND;VALUE=DATE:20240201
DTSTAMP:20260422T223254
CREATED:20231116T162512Z
LAST-MODIFIED:20231116T162512Z
UID:143-1704067200-1706745599@mltpto.com
SUMMARY:Coin Wars
DESCRIPTION:
URL:http://mltpto.com/event/coin-wars/
END:VEVENT
BEGIN:VEVENT
DTSTART;VALUE=DATE:20240106
DTEND;VALUE=DATE:20240201
DTSTAMP:20260422T223254
CREATED:20240920T142308Z
LAST-MODIFIED:20240920T142308Z
UID:312-1704499200-1706745599@mltpto.com
SUMMARY:Coin Wars
DESCRIPTION:
URL:http://mltpto.com/event/coin-wars-2/
END:VEVENT
BEGIN:VEVENT
DTSTART;VALUE=DATE:20240129
DTEND;VALUE=DATE:20240130
DTSTAMP:20260422T223254
CREATED:20231116T162602Z
LAST-MODIFIED:20231116T162602Z
UID:147-1706486400-1706572799@mltpto.com
SUMMARY:Acrobats
DESCRIPTION:
URL:http://mltpto.com/event/acrobats/
END:VEVENT
END:VCALENDAR