BEGIN:VCALENDAR
VERSION:2.0
PRODID:-//MLT PTO - ECPv6.15.20//NONSGML v1.0//EN
CALSCALE:GREGORIAN
METHOD:PUBLISH
X-ORIGINAL-URL:http://mltpto.com
X-WR-CALDESC:Events for MLT PTO
REFRESH-INTERVAL;VALUE=DURATION:PT1H
X-Robots-Tag:noindex
X-PUBLISHED-TTL:PT1H
BEGIN:VTIMEZONE
TZID:UTC
BEGIN:STANDARD
TZOFFSETFROM:+0000
TZOFFSETTO:+0000
TZNAME:UTC
DTSTART:20230101T000000
END:STANDARD
END:VTIMEZONE
BEGIN:VEVENT
DTSTART;VALUE=DATE:20240402
DTEND;VALUE=DATE:20240403
DTSTAMP:20260422T174339
CREATED:20231116T162827Z
LAST-MODIFIED:20231116T163405Z
UID:161-1712016000-1712102399@mltpto.com
SUMMARY:PTO meeting
DESCRIPTION:
URL:http://mltpto.com/event/pto-meeting-3/
CATEGORIES:pto
END:VEVENT
BEGIN:VEVENT
DTSTART;VALUE=DATE:20240403
DTEND;VALUE=DATE:20240404
DTSTAMP:20260422T174339
CREATED:20231116T162847Z
LAST-MODIFIED:20231116T163019Z
UID:163-1712102400-1712188799@mltpto.com
SUMMARY:Spring Pictures
DESCRIPTION:
URL:http://mltpto.com/event/spring-pictures/
END:VEVENT
BEGIN:VEVENT
DTSTART;VALUE=DATE:20240426
DTEND;VALUE=DATE:20240427
DTSTAMP:20260422T174339
CREATED:20231116T162907Z
LAST-MODIFIED:20231116T163033Z
UID:165-1714089600-1714175999@mltpto.com
SUMMARY:Pre K Critter Caravan Visit
DESCRIPTION:
URL:http://mltpto.com/event/pre-k-critter-caravan-visit/
END:VEVENT
BEGIN:VEVENT
DTSTART;VALUE=DATE:20240429
DTEND;VALUE=DATE:20240504
DTSTAMP:20260422T174339
CREATED:20231116T162931Z
LAST-MODIFIED:20231116T163038Z
UID:167-1714348800-1714780799@mltpto.com
SUMMARY:National Screen Free Week
DESCRIPTION:
URL:http://mltpto.com/event/national-screen-free-week/
END:VEVENT
END:VCALENDAR