BEGIN:VCALENDAR
VERSION:2.0
PRODID:-//MLT PTO - ECPv6.15.20//NONSGML v1.0//EN
CALSCALE:GREGORIAN
METHOD:PUBLISH
X-ORIGINAL-URL:http://mltpto.com
X-WR-CALDESC:Events for MLT PTO
REFRESH-INTERVAL;VALUE=DURATION:PT1H
X-Robots-Tag:noindex
X-PUBLISHED-TTL:PT1H
BEGIN:VTIMEZONE
TZID:UTC
BEGIN:STANDARD
TZOFFSETFROM:+0000
TZOFFSETTO:+0000
TZNAME:UTC
DTSTART:20230101T000000
END:STANDARD
END:VTIMEZONE
BEGIN:VEVENT
DTSTART;VALUE=DATE:20240429
DTEND;VALUE=DATE:20240504
DTSTAMP:20260422T160621
CREATED:20231116T162931Z
LAST-MODIFIED:20231116T163038Z
UID:167-1714348800-1714780799@mltpto.com
SUMMARY:National Screen Free Week
DESCRIPTION:
URL:http://mltpto.com/event/national-screen-free-week/
END:VEVENT
BEGIN:VEVENT
DTSTART;TZID=UTC:20240506T080000
DTEND;TZID=UTC:20240510T170000
DTSTAMP:20260422T160621
CREATED:20231116T162952Z
LAST-MODIFIED:20231116T163100Z
UID:169-1714982400-1715360400@mltpto.com
SUMMARY:Teacher Appreciation Week
DESCRIPTION:
URL:http://mltpto.com/event/teacher-appreciation-week/
END:VEVENT
BEGIN:VEVENT
DTSTART;VALUE=DATE:20240507
DTEND;VALUE=DATE:20240508
DTSTAMP:20260422T160621
CREATED:20231116T163122Z
LAST-MODIFIED:20231116T163401Z
UID:171-1715040000-1715126399@mltpto.com
SUMMARY:PTO Meeting
DESCRIPTION:
URL:http://mltpto.com/event/pto-meeting-4/
CATEGORIES:pto
END:VEVENT
BEGIN:VEVENT
DTSTART;VALUE=DATE:20240515
DTEND;VALUE=DATE:20240518
DTSTAMP:20260422T160621
CREATED:20231116T163146Z
LAST-MODIFIED:20231116T163146Z
UID:174-1715731200-1715990399@mltpto.com
SUMMARY:Kindergarten walking field trip to the Historical Society
DESCRIPTION:
URL:http://mltpto.com/event/kindergarten-walking-field-trip-to-the-historical-society/
END:VEVENT
BEGIN:VEVENT
DTSTART;VALUE=DATE:20240517
DTEND;VALUE=DATE:20240518
DTSTAMP:20260422T160621
CREATED:20231116T163218Z
LAST-MODIFIED:20231116T163218Z
UID:176-1715904000-1715990399@mltpto.com
SUMMARY:Pre K  Field trip to Buttermilk Farm
DESCRIPTION:
URL:http://mltpto.com/event/pre-k-field-trip-to-buttermilk-farm/
CATEGORIES:trip
END:VEVENT
BEGIN:VEVENT
DTSTART;VALUE=DATE:20240522
DTEND;VALUE=DATE:20240523
DTSTAMP:20260422T160621
CREATED:20231116T163247Z
LAST-MODIFIED:20231116T163247Z
UID:178-1716336000-1716422399@mltpto.com
SUMMARY:Field Day
DESCRIPTION:5/23/24 – rain date
URL:http://mltpto.com/event/field-day/
END:VEVENT
BEGIN:VEVENT
DTSTART;VALUE=DATE:20240528
DTEND;VALUE=DATE:20240529
DTSTAMP:20260422T160621
CREATED:20231116T163302Z
LAST-MODIFIED:20231116T163302Z
UID:180-1716854400-1716940799@mltpto.com
SUMMARY:Kindergarten Home School Visit
DESCRIPTION:
URL:http://mltpto.com/event/kindergarten-home-school-visit/
END:VEVENT
END:VCALENDAR